BEGIN:VCALENDAR
VERSION:2.0
PRODID:-//eventon.com NONSGML v1.0//EN
CALSCALE:GREGORIAN
METHOD:PUBLISH
BEGIN:VEVENT
UID:69e77fc996ccb
DTSTAMP:20260421T134649Z
DTSTART:20230826
DTEND:20230827
LOCATION:
SUMMARY:Concerto di Ambrogio Sparagna
DESCRIPTION:Un Trio che racconta un’Orchestra intera. Canti e strumenti m
 usicali che permettono di realizzare un itinerario affascinante nella music
 a popolare italiana\,  lungo la dorsale appenninica. Evento gratuito con re
 gistrazione Clicca qui per registrarti\nhttps://www.treterrecanavesane.it/e
 venti/concerto-di-ambrogio-sparagna/
URL:https://www.treterrecanavesane.it/eventi/concerto-di-ambrogio-sparagna/
END:VEVENT
END:VCALENDAR