BEGIN:VCALENDAR
VERSION:2.0
PRODID:-//eventon.com NONSGML v1.0//EN
CALSCALE:GREGORIAN
METHOD:PUBLISH
BEGIN:VEVENT
UID:69e768ca4732a
DTSTAMP:20260421T120842Z
DTSTART:20230827
DTEND:20230828
LOCATION:
SUMMARY:Spettacolo di Franco Arminio
DESCRIPTION:Franco Arminio negli ultimi anni ha messo a punto un modo assai
  originale di portare in giro la poesia. Il suo non è propriamente un read
 ing\,  anche se legge versi dai suoi libri. Non è uno spettacolo teatrale\
 ,  non è un dialogo coi lettori\,  ma un po’ tutte queste cose[..]\nhttp
 s://www.treterrecanavesane.it/eventi/spettacolo-di-franco-arminio/
URL:https://www.treterrecanavesane.it/eventi/spettacolo-di-franco-arminio/
END:VEVENT
END:VCALENDAR